BEGIN:VCALENDAR
VERSION:2.0
PRODID:-//Standish Township - ECPv6.15.20//NONSGML v1.0//EN
CALSCALE:GREGORIAN
METHOD:PUBLISH
X-ORIGINAL-URL:https://standishtownship.gov
X-WR-CALDESC:Events for Standish Township
REFRESH-INTERVAL;VALUE=DURATION:PT1H
X-Robots-Tag:noindex
X-PUBLISHED-TTL:PT1H
BEGIN:VTIMEZONE
TZID:America/Detroit
BEGIN:DAYLIGHT
TZOFFSETFROM:-0500
TZOFFSETTO:-0400
TZNAME:EDT
DTSTART:20240310T070000
END:DAYLIGHT
BEGIN:STANDARD
TZOFFSETFROM:-0400
TZOFFSETTO:-0500
TZNAME:EST
DTSTART:20241103T060000
END:STANDARD
BEGIN:DAYLIGHT
TZOFFSETFROM:-0500
TZOFFSETTO:-0400
TZNAME:EDT
DTSTART:20250309T070000
END:DAYLIGHT
BEGIN:STANDARD
TZOFFSETFROM:-0400
TZOFFSETTO:-0500
TZNAME:EST
DTSTART:20251102T060000
END:STANDARD
BEGIN:DAYLIGHT
TZOFFSETFROM:-0500
TZOFFSETTO:-0400
TZNAME:EDT
DTSTART:20260308T070000
END:DAYLIGHT
BEGIN:STANDARD
TZOFFSETFROM:-0400
TZOFFSETTO:-0500
TZNAME:EST
DTSTART:20261101T060000
END:STANDARD
END:VTIMEZONE
BEGIN:VEVENT
DTSTART;TZID=America/Detroit:20250902T183000
DTEND;TZID=America/Detroit:20250902T193000
DTSTAMP:20260421T123706
CREATED:20250826T014015Z
LAST-MODIFIED:20250826T014503Z
UID:19677-1756837800-1756841400@standishtownship.gov
SUMMARY:Planning Commission Special Meeting (9-2-2025)
DESCRIPTION:The Standish Township Planning Commission will be holding a special meeting\, details are as follows. \nMeeting Date: September 2\, 2025\nMeeting Time: 6:30 PM\nMeeting Location: Standish Township Hall\, 4997 Arenac State Rd. Standish\, MI 48658 \nPlanning Commission 9-2-25 Special Meeting Notice \n 
URL:https://standishtownship.gov/event/planning-commission-special-meeting-9-2-2025/
LOCATION:Standish Township Hall
CATEGORIES:Planning Commission Meeting
END:VEVENT
BEGIN:VEVENT
DTSTART;TZID=America/Detroit:20250909T183000
DTEND;TZID=America/Detroit:20250909T193000
DTSTAMP:20260421T123706
CREATED:20250610T233221Z
LAST-MODIFIED:20250610T233221Z
UID:19382-1757442600-1757446200@standishtownship.gov
SUMMARY:Board of Trustees Monthly Meeting
DESCRIPTION:
URL:https://standishtownship.gov/event/board-of-trustees-monthly-meeting-3/
LOCATION:Standish Township Hall
CATEGORIES:Monthly Board Meeting
END:VEVENT
BEGIN:VEVENT
DTSTART;TZID=America/Detroit:20250920T090000
DTEND;TZID=America/Detroit:20250920T150000
DTSTAMP:20260421T123706
CREATED:20250909T211527Z
LAST-MODIFIED:20250909T211528Z
UID:19693-1758358800-1758380400@standishtownship.gov
SUMMARY:Dumpster Day at Standish Township Hall Saturday\, September 20\, 2025 9am-3pm
DESCRIPTION:A dumpster will be available at the Standish Township Hall on Saturday\, September 20\, 2025 from 9am to 3pm for disposal of\, see the list of items not allowed below. \nItems not allowed: \n-Paint\n-Chemicals\n-Batteries\n-Tires\n-Refrigerators\n-Freezers\n-Air Conditioners\n-Yard waste\n-Hazardous materials
URL:https://standishtownship.gov/event/dumpster-day-at-standish-township-hall-saturday-september-20-2025-9am-3pm/
LOCATION:Standish Township Hall
CATEGORIES:Community Events
END:VEVENT
BEGIN:VEVENT
DTSTART;TZID=America/Detroit:20250924T183000
DTEND;TZID=America/Detroit:20250924T193000
DTSTAMP:20260421T123706
CREATED:20250918T012250Z
LAST-MODIFIED:20250918T012418Z
UID:19704-1758738600-1758742200@standishtownship.gov
SUMMARY:Township Board 9-24-2025 Special Meeting and Public Hearing
DESCRIPTION:The Board of Trustees of Standish Township will hold a special meeting and public hearing on a proposed increase in the operating tax millage rate to be levied on property in 2025. \nThe special meeting and hearing will be held on September 24\, 2025 at 6:30 p.m. at Standish Township Hall at 4997 Arenac-State Road; Standish\, MI 48658. \nLink to Board page for notices: https://standishtownship.gov/board-of-trustees/
URL:https://standishtownship.gov/event/township-board-9-24-2025-special-meeting-and-public-hearing/
LOCATION:Standish Township Hall
CATEGORIES:Board Special Meeting
END:VEVENT
END:VCALENDAR