BEGIN:VCALENDAR
VERSION:2.0
PRODID:-//Standish Township - ECPv6.15.20//NONSGML v1.0//EN
CALSCALE:GREGORIAN
METHOD:PUBLISH
X-WR-CALNAME:Standish Township
X-ORIGINAL-URL:https://standishtownship.gov
X-WR-CALDESC:Events for Standish Township
REFRESH-INTERVAL;VALUE=DURATION:PT1H
X-Robots-Tag:noindex
X-PUBLISHED-TTL:PT1H
BEGIN:VTIMEZONE
TZID:America/Detroit
BEGIN:DAYLIGHT
TZOFFSETFROM:-0500
TZOFFSETTO:-0400
TZNAME:EDT
DTSTART:20250309T070000
END:DAYLIGHT
BEGIN:STANDARD
TZOFFSETFROM:-0400
TZOFFSETTO:-0500
TZNAME:EST
DTSTART:20251102T060000
END:STANDARD
BEGIN:DAYLIGHT
TZOFFSETFROM:-0500
TZOFFSETTO:-0400
TZNAME:EDT
DTSTART:20260308T070000
END:DAYLIGHT
BEGIN:STANDARD
TZOFFSETFROM:-0400
TZOFFSETTO:-0500
TZNAME:EST
DTSTART:20261101T060000
END:STANDARD
BEGIN:DAYLIGHT
TZOFFSETFROM:-0500
TZOFFSETTO:-0400
TZNAME:EDT
DTSTART:20270314T070000
END:DAYLIGHT
BEGIN:STANDARD
TZOFFSETFROM:-0400
TZOFFSETTO:-0500
TZNAME:EST
DTSTART:20271107T060000
END:STANDARD
END:VTIMEZONE
BEGIN:VEVENT
DTSTART;TZID=America/Detroit:20260330T180000
DTEND;TZID=America/Detroit:20260330T193000
DTSTAMP:20260421T205816
CREATED:20260329T145502Z
LAST-MODIFIED:20260329T145502Z
UID:20155-1774893600-1774899000@standishtownship.gov
SUMMARY:Board of Trustees Special Meeting
DESCRIPTION:
URL:https://standishtownship.gov/event/board-of-trustees-special-meeting-2/
LOCATION:Standish Township Hall
CATEGORIES:Board Special Meeting
END:VEVENT
BEGIN:VEVENT
DTSTART;TZID=America/Detroit:20260414T183000
DTEND;TZID=America/Detroit:20260414T193000
DTSTAMP:20260421T205816
CREATED:20251201T232250Z
LAST-MODIFIED:20251201T232250Z
UID:19755-1776191400-1776195000@standishtownship.gov
SUMMARY:Board of Trustees Monthly Meeting
DESCRIPTION:
URL:https://standishtownship.gov/event/board-of-trustees-monthly-meeting-10/
LOCATION:Standish Township Hall
CATEGORIES:Monthly Board Meeting
END:VEVENT
BEGIN:VEVENT
DTSTART;TZID=America/Detroit:20260505T183000
DTEND;TZID=America/Detroit:20260505T193000
DTSTAMP:20260421T205816
CREATED:20251201T233203Z
LAST-MODIFIED:20251201T233637Z
UID:19777-1778005800-1778009400@standishtownship.gov
SUMMARY:Planning Commission Meeting
DESCRIPTION:
URL:https://standishtownship.gov/event/planning-commission-meeting-5/
LOCATION:Standish Township Hall
CATEGORIES:Planning Commission Meeting
END:VEVENT
BEGIN:VEVENT
DTSTART;TZID=America/Detroit:20260512T183000
DTEND;TZID=America/Detroit:20260512T193000
DTSTAMP:20260421T205816
CREATED:20251201T232411Z
LAST-MODIFIED:20251201T232411Z
UID:19757-1778610600-1778614200@standishtownship.gov
SUMMARY:Board of Trustees Monthly Meeting
DESCRIPTION:
URL:https://standishtownship.gov/event/board-of-trustees-monthly-meeting-11/
LOCATION:Standish Township Hall
CATEGORIES:Monthly Board Meeting
END:VEVENT
BEGIN:VEVENT
DTSTART;TZID=America/Detroit:20260530T090000
DTEND;TZID=America/Detroit:20260530T150000
DTSTAMP:20260421T205816
CREATED:20260421T132826Z
LAST-MODIFIED:20260421T132826Z
UID:20192-1780131600-1780153200@standishtownship.gov
SUMMARY:Dumpster Day - 2026 Spring
DESCRIPTION:Dumpster Day \nStandish Township is hosting a community Dumpster & Recycling Day for residents and property owners on May 30\, 2026\, from 9:00 a.m. to 3:00 p.m. at the Township Hall (4997 Arenac State Road). Residents are welcome to bring acceptable household items for disposal. The Township is partnering with the Arenac Conservation District to also provide recycling services during the event. Please note that some materials are not accepted and certain items may require a small fee. A full list of accepted items and fees is included on the back of this mailer. \nDumpster Day 2026 \n 
URL:https://standishtownship.gov/event/dumpster-day-2026-spring/
LOCATION:Standish Township Hall
CATEGORIES:Community Events
END:VEVENT
BEGIN:VEVENT
DTSTART;TZID=America/Detroit:20260609T183000
DTEND;TZID=America/Detroit:20260609T193000
DTSTAMP:20260421T205816
CREATED:20251201T232504Z
LAST-MODIFIED:20251201T232504Z
UID:19759-1781029800-1781033400@standishtownship.gov
SUMMARY:Board of Trustees Monthly Meeting
DESCRIPTION:
URL:https://standishtownship.gov/event/board-of-trustees-monthly-meeting-12/
LOCATION:Standish Township Hall
CATEGORIES:Monthly Board Meeting
END:VEVENT
BEGIN:VEVENT
DTSTART;TZID=America/Detroit:20260707T183000
DTEND;TZID=America/Detroit:20260707T193000
DTSTAMP:20260421T205816
CREATED:20251201T233248Z
LAST-MODIFIED:20251201T233709Z
UID:19779-1783449000-1783452600@standishtownship.gov
SUMMARY:Planning Commission Meeting
DESCRIPTION:
URL:https://standishtownship.gov/event/planning-commission-meeting-6/
LOCATION:Standish Township Hall
CATEGORIES:Planning Commission Meeting
END:VEVENT
BEGIN:VEVENT
DTSTART;TZID=America/Detroit:20260714T183000
DTEND;TZID=America/Detroit:20260714T193000
DTSTAMP:20260421T205816
CREATED:20251201T232547Z
LAST-MODIFIED:20251201T232547Z
UID:19761-1784053800-1784057400@standishtownship.gov
SUMMARY:Board of Trustees Monthly Meeting
DESCRIPTION:
URL:https://standishtownship.gov/event/board-of-trustees-monthly-meeting-13/
LOCATION:Standish Township Hall
CATEGORIES:Monthly Board Meeting
END:VEVENT
BEGIN:VEVENT
DTSTART;TZID=America/Detroit:20260811T183000
DTEND;TZID=America/Detroit:20260811T193000
DTSTAMP:20260421T205816
CREATED:20251201T232631Z
LAST-MODIFIED:20251201T232631Z
UID:19763-1786473000-1786476600@standishtownship.gov
SUMMARY:Board of Trustees Monthly Meeting
DESCRIPTION:
URL:https://standishtownship.gov/event/board-of-trustees-monthly-meeting-14/
LOCATION:Standish Township Hall
CATEGORIES:Monthly Board Meeting
END:VEVENT
BEGIN:VEVENT
DTSTART;TZID=America/Detroit:20260901T183000
DTEND;TZID=America/Detroit:20260901T193000
DTSTAMP:20260421T205816
CREATED:20251201T233342Z
LAST-MODIFIED:20251201T233804Z
UID:19781-1788287400-1788291000@standishtownship.gov
SUMMARY:Planning Commission Meeting
DESCRIPTION:
URL:https://standishtownship.gov/event/planning-commission-meeting-7/
LOCATION:Standish Township Hall
CATEGORIES:Planning Commission Meeting
END:VEVENT
BEGIN:VEVENT
DTSTART;TZID=America/Detroit:20260908T183000
DTEND;TZID=America/Detroit:20260908T193000
DTSTAMP:20260421T205816
CREATED:20251201T232717Z
LAST-MODIFIED:20251201T232717Z
UID:19765-1788892200-1788895800@standishtownship.gov
SUMMARY:Board of Trustees Monthly Meeting
DESCRIPTION:
URL:https://standishtownship.gov/event/board-of-trustees-monthly-meeting-15/
LOCATION:Standish Township Hall
CATEGORIES:Monthly Board Meeting
END:VEVENT
BEGIN:VEVENT
DTSTART;TZID=America/Detroit:20261013T183000
DTEND;TZID=America/Detroit:20261013T193000
DTSTAMP:20260421T205816
CREATED:20251201T232758Z
LAST-MODIFIED:20251201T232758Z
UID:19767-1791916200-1791919800@standishtownship.gov
SUMMARY:Board of Trustees Monthly Meeting
DESCRIPTION:
URL:https://standishtownship.gov/event/board-of-trustees-monthly-meeting-16/
LOCATION:Standish Township Hall
CATEGORIES:Monthly Board Meeting
END:VEVENT
BEGIN:VEVENT
DTSTART;TZID=America/Detroit:20261104T183000
DTEND;TZID=America/Detroit:20261104T193000
DTSTAMP:20260421T205816
CREATED:20251201T233505Z
LAST-MODIFIED:20251201T233505Z
UID:19783-1793817000-1793820600@standishtownship.gov
SUMMARY:Planning Commission Meeting
DESCRIPTION:
URL:https://standishtownship.gov/event/planning-commission-meeting-8/
LOCATION:Standish Township Hall
CATEGORIES:Planning Commission Meeting
END:VEVENT
BEGIN:VEVENT
DTSTART;TZID=America/Detroit:20261110T183000
DTEND;TZID=America/Detroit:20261110T193000
DTSTAMP:20260421T205816
CREATED:20251201T232848Z
LAST-MODIFIED:20251201T232848Z
UID:19769-1794335400-1794339000@standishtownship.gov
SUMMARY:Board of Trustees Monthly Meeting
DESCRIPTION:
URL:https://standishtownship.gov/event/board-of-trustees-monthly-meeting-17/
LOCATION:Standish Township Hall
CATEGORIES:Monthly Board Meeting
END:VEVENT
BEGIN:VEVENT
DTSTART;TZID=America/Detroit:20261208T183000
DTEND;TZID=America/Detroit:20261208T193000
DTSTAMP:20260421T205816
CREATED:20251201T232932Z
LAST-MODIFIED:20260329T152740Z
UID:19771-1796754600-1796758200@standishtownship.gov
SUMMARY:Board of Trustees Monthly Meeting
DESCRIPTION:
URL:https://standishtownship.gov/event/board-of-trustees-monthly-meeting-18/
LOCATION:Standish Township Hall
CATEGORIES:Monthly Board Meeting
END:VEVENT
END:VCALENDAR