BEGIN:VCALENDAR
VERSION:2.0
PRODID:-//Standish Township - ECPv6.15.20//NONSGML v1.0//EN
CALSCALE:GREGORIAN
METHOD:PUBLISH
X-WR-CALNAME:Standish Township
X-ORIGINAL-URL:https://standishtownship.gov
X-WR-CALDESC:Events for Standish Township
REFRESH-INTERVAL;VALUE=DURATION:PT1H
X-Robots-Tag:noindex
X-PUBLISHED-TTL:PT1H
BEGIN:VTIMEZONE
TZID:America/Detroit
BEGIN:DAYLIGHT
TZOFFSETFROM:-0500
TZOFFSETTO:-0400
TZNAME:EDT
DTSTART:20240310T070000
END:DAYLIGHT
BEGIN:STANDARD
TZOFFSETFROM:-0400
TZOFFSETTO:-0500
TZNAME:EST
DTSTART:20241103T060000
END:STANDARD
BEGIN:DAYLIGHT
TZOFFSETFROM:-0500
TZOFFSETTO:-0400
TZNAME:EDT
DTSTART:20250309T070000
END:DAYLIGHT
BEGIN:STANDARD
TZOFFSETFROM:-0400
TZOFFSETTO:-0500
TZNAME:EST
DTSTART:20251102T060000
END:STANDARD
BEGIN:DAYLIGHT
TZOFFSETFROM:-0500
TZOFFSETTO:-0400
TZNAME:EDT
DTSTART:20260308T070000
END:DAYLIGHT
BEGIN:STANDARD
TZOFFSETFROM:-0400
TZOFFSETTO:-0500
TZNAME:EST
DTSTART:20261101T060000
END:STANDARD
END:VTIMEZONE
BEGIN:VEVENT
DTSTART;TZID=America/Detroit:20250812T183000
DTEND;TZID=America/Detroit:20250812T193000
DTSTAMP:20260421T180036
CREATED:20250610T233051Z
LAST-MODIFIED:20250610T233241Z
UID:19380-1755023400-1755027000@standishtownship.gov
SUMMARY:Board of Trustees Monthly Meeting
DESCRIPTION:
URL:https://standishtownship.gov/event/board-of-trustees-monthly-meeting-2/
LOCATION:Standish Township Hall
CATEGORIES:Monthly Board Meeting
END:VEVENT
BEGIN:VEVENT
DTSTART;TZID=America/Detroit:20250805T183000
DTEND;TZID=America/Detroit:20250805T193000
DTSTAMP:20260421T180036
CREATED:20250610T233436Z
LAST-MODIFIED:20250610T233844Z
UID:19385-1754418600-1754422200@standishtownship.gov
SUMMARY:Planning Commission Meeting
DESCRIPTION:
URL:https://standishtownship.gov/event/planning-commission-meeting/
LOCATION:Standish Township Hall
CATEGORIES:Planning Commission Meeting
END:VEVENT
BEGIN:VEVENT
DTSTART;TZID=America/Detroit:20250801T180000
DTEND;TZID=America/Detroit:20250801T190000
DTSTAMP:20260421T180036
CREATED:20250725T011016Z
LAST-MODIFIED:20250725T013349Z
UID:19631-1754071200-1754074800@standishtownship.gov
SUMMARY:Zoning Board of Appeals Special Meeting (8-1-2025)
DESCRIPTION:The Standish Township Zoning Board of Appeals will be holding a special meeting\, details are as follows. \nMeeting Date: August 1\, 2025\nMeeting Time: 6:00 PM\nMeeting Location: Standish Township Hall\, 4997 Arenac State Rd. Standish\, MI 48658 \n8-1-2025 ZBA Special Meeting Notice \n8-1-2025 ZBA Notice Agenda
URL:https://standishtownship.gov/event/8-1-2025-600pm-zoning-board-of-appeals-special-meeting/
CATEGORIES:Zoning Board of Appeals Meeting
END:VEVENT
BEGIN:VEVENT
DTSTART;TZID=America/Detroit:20250722T170000
DTEND;TZID=America/Detroit:20250722T190000
DTSTAMP:20260421T180036
CREATED:20250715T005751Z
LAST-MODIFIED:20250715T005945Z
UID:19622-1753203600-1753210800@standishtownship.gov
SUMMARY:July 2025 Board of Review Special Meeting
DESCRIPTION:On July 22\, 2025 at 5:00 pm\, the Standish Township board of review will meet at the Township Hall located at 4997 Arenac State Rd. Standish\, MI 48658 to make any necessary corrections with regards to qualified errors. The board of review may also grant certain Qualified Agricultural Exemptions\, Poverty Exemptions\, and certain Qualified Veteran’s Exemptions and any other matters that can be brought before the July Board of Review. \nJuly 2025 BOR Notice
URL:https://standishtownship.gov/event/july-2025-board-of-review-special-meeting/
LOCATION:Standish Township Hall
CATEGORIES:Board Special Meeting
END:VEVENT
BEGIN:VEVENT
DTSTART;TZID=America/Detroit:20250708T183000
DTEND;TZID=America/Detroit:20250708T193000
DTSTAMP:20260421T180036
CREATED:20250604T000638Z
LAST-MODIFIED:20250610T233246Z
UID:18750-1751999400-1752003000@standishtownship.gov
SUMMARY:Board of Trustees Monthly Meeting
DESCRIPTION:
URL:https://standishtownship.gov/event/board-of-trustees-monthly-meeting/
LOCATION:Standish Township Hall
CATEGORIES:Monthly Board Meeting
END:VEVENT
BEGIN:VEVENT
DTSTART;TZID=America/Detroit:20250621T090000
DTEND;TZID=America/Detroit:20250621T140000
DTSTAMP:20260421T180036
CREATED:20250611T180535Z
LAST-MODIFIED:20250611T180637Z
UID:19416-1750496400-1750514400@standishtownship.gov
SUMMARY:Arenac Conservation District Recycling Day
DESCRIPTION:More information can be found on the Arenac Conservation District website: Arenac Conservation District Recycling \n 
URL:https://standishtownship.gov/event/arenac-conservation-district-recycling-day/
CATEGORIES:Community Events
END:VEVENT
BEGIN:VEVENT
DTSTART;TZID=America/Detroit:20250617T173000
DTEND;TZID=America/Detroit:20250617T183000
DTSTAMP:20260421T180036
CREATED:20250611T175225Z
LAST-MODIFIED:20250614T172027Z
UID:19414-1750181400-1750185000@standishtownship.gov
SUMMARY:Township Board Special Meeting
DESCRIPTION:The Standish Township Board of Trustees will hold a Special Meeting on June 17 at 5:30pm at the Standish Township Hall to review\, discuss\, and update township policies. \nNotice may be found here: Special Meeting Notice6.17.2025
URL:https://standishtownship.gov/event/township-board-special-meeting/
LOCATION:Standish Township Hall
CATEGORIES:Board Special Meeting
END:VEVENT
BEGIN:VEVENT
DTSTART;TZID=America/Detroit:20250610T183000
DTEND;TZID=America/Detroit:20250610T193000
DTSTAMP:20260421T180036
CREATED:20250522T060344Z
LAST-MODIFIED:20250610T233303Z
UID:18582-1749580200-1749583800@standishtownship.gov
SUMMARY:Board of Trustees Monthly Meeting
DESCRIPTION:
URL:https://standishtownship.gov/event/june-standish-township-monthly-board-meeting/
LOCATION:Standish Township Hall
CATEGORIES:Monthly Board Meeting
END:VEVENT
BEGIN:VEVENT
DTSTART;TZID=America/Detroit:20250603T183000
DTEND;TZID=America/Detroit:20250603T193000
DTSTAMP:20260421T180036
CREATED:20250522T055118Z
LAST-MODIFIED:20250610T233336Z
UID:18575-1748975400-1748979000@standishtownship.gov
SUMMARY:Planning Commission Meeting
DESCRIPTION:
URL:https://standishtownship.gov/event/june-planning-commission-meeting/
LOCATION:Standish Township Hall
CATEGORIES:Planning Commission Meeting
END:VEVENT
END:VCALENDAR